Workbook

Sheet Financial Statements
I1: Documentation
B2: Schaffer Corporation Limited | I2: This is an area where we can put documentation.
B3: Statements of Changes in Equity
B4: Years ended June 30
D5: =+E5+1 -> 2020 | E5: =+F5+1 -> 2019 | F5: =+G5+1 -> 2018 | G5: 2017
D6: =+G6 -> $'000 | E6: =+G6 -> $'000 | F6: =+G6 -> $'000 | G6: $'000
B7: Opening Balance at July 1 | D7: 116044 | E7: 102586 | F7: 83705 | G7: 79187
B8: Profit for the year | D8: 27153 | E8: 27700 | F8: 28160 | G8: 7546
A9: F | B9: Other comprehensive income | D9: 478 | E9: 723 | F9: 1343 | G9: 1589
B10: Total comprehensive income for the year | D10: =SUM(D8:D9) -> 27631 | E10: =SUM(E8:E9) -> 28423 | F10: =SUM(F8:F9) -> 29503 | G10: =SUM(G8:G9) -> 9135
B11: Transactions with owners in their capacity as owners
B12: Shares acquired under buy-back scheme | D12: -3166 | E12: -719 | F12: -2043
B13: Share-based payments | D13: 90 | E13: 68 | F13: 40 | G13: 62
B14: Changes in estimated settlement of EPU's | F14: -2070
B15: Equity dividends | D15: -17202 | E15: -14484 | F15: -6549 | G15: -4679
B16: Employee share options exercised | D16: 402 | E16: 170
B17: Closing Balance at June 30 | D17: =SUM(D7,D10:D16) -> 123799 | E17: =SUM(E7,E10:E16) -> 116044 | F17: =SUM(F7,F10:F16) -> 102586 | G17: =SUM(G7,G10:G16) -> 83705
I24: Notes Area
B25: =+B2 -> Schaffer Corporation Limited | I25: This area is designed as a space to write notes to yourself. Hopefully this will save you the hassle of attempting to find the pen and paper that is somewhere in the bottom of your bag.
B26: Balance Sheets
B27: as at June 30
D28: =+D5 -> 2020 | E28: =+E5 -> 2019 | F28: =+F5 -> 2018 | G28: =+G5 -> 2017
D29: =+G6 -> $'000 | E29: =+G6 -> $'000 | F29: =+G6 -> $'000 | G29: =+G6 -> $'000
B30: ASSETS
B31: Current Assets
A32: OF | B32: Cash and cash equivalents | D32: 35016 | E32: 17371 | F32: 25938
A33: OF | B33: Cash and short term deposits | G33: 11417
A34: O | B34: Trade and other receivables | D34: 17496 | E34: 29310 | F34: 42762 | G34: 43663
A35: O | B35: Inventories | D35: 40909 | E35: 40062 | F35: 39604 | G35: 50382
A36: O | B36: Contract assets | D36: 2589 | E36: 3553
A37: O | B37: Prepayments and deposits | D37: 2075 | E37: 4976 | F37: 2065 | G37: 2127
A38: F | B38: Derivative financial instruments | D38: 166 | E38: 131 | F38: 1413
A39: F | B39: Other financial assets | E39: 19336 | F39: 6000
D40: =SUM(D32:D39) -> 98251 | E40: =SUM(E32:E39) -> 114739 | F40: =SUM(F32:F39) -> 117782 | G40: =SUM(G32:G39) -> 107589
A41: O | B41: Non-current assets classified as held for sale | G41: 4254
B42: Total current assets | D42: =SUM(D40:D41) -> 98251 | E42: =SUM(E40:E41) -> 114739 | F42: =SUM(F40:F41) -> 117782 | G42: =SUM(G40:G41) -> 111843
B43: Non-current assets
A44: F | B44: Receivables | G44: 216
A45: O | B45: Property, plant and equipment | D45: 13637 | E45: 26766 | F45: 27645 | G45: 37290
A46: F | B46: Investment properties | D46: 31794 | E46: 29576 | F46: 28678 | G46: 25406
...

Sheet Restated Financial Statements
P1: Documentation
B2: =+'Financial Statements'!B2:G2 -> Schaffer Corporation Limited | P2: This is an area where we can put documentation.
B3: Restated Statements of Changes in Equity
B4: =+'Financial Statements'!B4:G4 -> Years ended June 30
D5: 2004 | E5: 2005 | F5: 2006 | G5: 2007 | H5: 2008 | I5: 2009 | J5: =+'Financial Statements'!D5 -> 2020 | K5: =+'Financial Statements'!E5 -> 2019 | L5: =+'Financial Statements'!F5 -> 2018 | M5: =+'Financial Statements'!G5 -> 2017
D6: $'000 | E6: $'000 | F6: $'000 | G6: $'000 | H6: $'000 | I6: $'000 | J6: =+K6 -> $'000 | K6: =+M6 -> $'000 | L6: =+M6 -> $'000 | M6: =+'Financial Statements'!G6 -> $'000
B8: ='Financial Statements'!B7 -> Opening Balance at July 1 | J8: ='Financial Statements'!D7 -> 116044 | K8: ='Financial Statements'!E7 -> 102586 | L8: ='Financial Statements'!F7 -> 83705 | M8: ='Financial Statements'!G7 -> 79187
B9: ='Financial Statements'!B8 -> Profit for the year | J9: ='Financial Statements'!D8 -> 27153 | K9: ='Financial Statements'!E8 -> 27700 | L9: ='Financial Statements'!F8 -> 28160 | M9: ='Financial Statements'!G8 -> 7546
B10: Other Comprehensive Income
B11: Other Financial CI
B12: ='Financial Statements'!B9 -> Other comprehensive income | J12: ='Financial Statements'!D9 -> 478 | K12: ='Financial Statements'!E9 -> 723 | L12: ='Financial Statements'!F9 -> 1343 | M12: ='Financial Statements'!G9 -> 1589
B13: Total Financial CI | J13: =J12 -> 478 | K13: =K12 -> 723 | L13: =L12 -> 1343 | M13: =M12 -> 1589
B14: Other Operational CI
B15: Total Operational CI | J15: 0 | K15: 0 | L15: 0 | M15: 0
B16: Total Comprehensive Income | J16: =J9+J13+J15 -> 27631 | K16: =K9+K13+K15 -> 28423 | L16: =L9+L13+L15 -> 29503 | M16: =M9+M13+M15 -> 9135
B17: Transactions With Shareholders
B18: ='Financial Statements'!B12 -> Shares acquired under buy-back scheme | J18: ='Financial Statements'!D12 -> -3166 | K18: ='Financial Statements'!E12 -> -719 | L18: ='Financial Statements'!F12 -> -2043 | M18: ='Financial Statements'!G12 -> 0
B19: ='Financial Statements'!B13 -> Share-based payments | J19: ='Financial Statements'!D13 -> 90 | K19: ='Financial Statements'!E13 -> 68 | L19: ='Financial Statements'!F13 -> 40 | M19: ='Financial Statements'!G13 -> 62
B20: ='Financial Statements'!B14 -> Changes in estimated settlement of EPU's | J20: ='Financial Statements'!D14 -> 0 | K20: ='Financial Statements'!E14 -> 0 | L20: ='Financial Statements'!F14 -> -2070 | M20: ='Financial Statements'!G14 -> 0
B21: ='Financial Statements'!B15 -> Equity dividends | J21: ='Financial Statements'!D15 -> -17202 | K21: ='Financial Statements'!E15 -> -14484 | L21: ='Financial Statements'!F15 -> -6549 | M21: ='Financial Statements'!G15 -> -4679
B22: ='Financial Statements'!B16 -> Employee share options exercised | J22: ='Financial Statements'!D16 -> 402 | K22: ='Financial Statements'!E16 -> 170 | L22: ='Financial Statements'!F16 -> 0 | M22: ='Financial Statements'!G16 -> 0
B23: ='Financial Statements'!B17 -> Closing Balance at June 30 | J23: =J8+J16+SUM(J18:J22) -> 123799 | K23: =K8+K16+SUM(K18:K22) -> 116044 | L23: =L8+L16+SUM(L18:L22) -> 102586 | M23: =M8+M16+SUM(M18:M22) -> 83705
P27: Notes Area
P28: This area is designed as a space to write notes to yourself. Hopefully this will save you the hassle of attempting to find the pen and paper that is somewhere in the bottom of your bag.
B30: =+'Financial Statements'!B2:G2 -> Schaffer Corporation Limited
B31: Restated Statements of Financial Position
B32: =+'Financial Statements'!B27:G27 -> as at June 30
D33: 2004 | E33: 2005 | F33: 2006 | G33: 2007 | H33: 2008 | I33: 2009 | J33: =+'Financial Statements'!D5 -> 2020 | K33: =+'Financial Statements'!E5 -> 2019 | L33: =+'Financial Statements'!F5 -> 2018 | M33: =+'Financial Statements'!G5 -> 2017
D34: $'000 | E34: $'000 | F34: $'000 | G34: $'000 | H34: $'000 | I34: $'000 | J34: =+K34 -> $'000 | K34: =+K6 -> $'000 | L34: =+L6 -> $'000 | M34: =+M6 -> $'000
B36: Operating Assets
B37: ='Financial Statements'!B32 -> Cash and cash equivalents | J37: =J145 -> 1555.73 | K37: =K145 -> 2036.23 | L37: =L145 -> 2270.36 | M37: =M145 -> 1885.02
B38: ='Financial Statements'!B34 -> Trade and other receivables | J38: ='Financial Statements'!D34 -> 17496 | K38: ='Financial Statements'!E34 -> 29310 | L38: ='Financial Statements'!F34 -> 42762 | M38: ='Financial Statements'!G34 -> 43663
B39: ='Financial Statements'!B35 -> Inventories | J39: ='Financial Statements'!D35 -> 40909 | K39: ='Financial Statements'!E35 -> 40062 | L39: ='Financial Statements'!F35 -> 39604 | M39: ='Financial Statements'!G35 -> 50382
B40: ='Financial Statements'!B36 -> Contract assets | J40: ='Financial Statements'!D36 -> 2589 | K40: ='Financial Statements'!E36 -> 3553 | L40: ='Financial Statements'!F36 -> 0 | M40: ='Financial Statements'!G36 -> 0
B41: ='Financial Statements'!B37 -> Prepayments and deposits | J41: ='Financial Statements'!D37 -> 2075 | K41: ='Financial Statements'!E37 -> 4976 | L41: ='Financial Statements'!F37 -> 2065 | M41: ='Financial Statements'!G37 -> 2127
B42: ='Financial Statements'!B41 -> Non-current assets classified as held for sale | M42: ='Financial Statements'!G41 -> 4254
B43: ='Financial Statements'!B45 -> Property, plant and equipment | J43: ='Financial Statements'!D45 -> 13637 | K43: ='Financial Statements'!E45 -> 26766 | L43: ='Financial Statements'!F45 -> 27645 | M43: ='Financial Statements'!G45 -> 37290
B44: ='Financial Statements'!B49 -> Deffered income tax asset | J44: ='Financial Statements'!D49 -> 5075 | K44: ='Financial Statements'!E49 -> 7552 | L44: ='Financial Statements'!F49 -> 6076 | M44: ='Financial Statements'!G49 -> 2284
B45: ='Financial Statements'!B50 -> Goodwill | J45: ='Financial Statements'!D50 -> 1299 | K45: ='Financial Statements'!E50 -> 1299 | L45: ='Financial Statements'!F50 -> 1299 | M45: ='Financial Statements'!G50 -> 1299
B46: Total of Operating Assets | J46: =SUM(J37:J45) -> 84635.73 | K46: =SUM(K37:K45) -> 115554.23 | L46: =SUM(L37:L45) -> 121721.36 | M46: =SUM(M37:M45) -> 143184.02
...

Sheet Ratios
J1: Documentation
B2: =+'Financial Statements'!B2:G2 -> Schaffer Corporation Limited | J2: This is an area where we can put documentation.
B3: RATIOS
B4: =+'Financial Statements'!B4:G4 -> Years ended June 30
D5: =+'Financial Statements'!D5 -> 2020 | E5: =+'Financial Statements'!E5 -> 2019 | F5: =+'Financial Statements'!F5 -> 2018 | G5: =+'Financial Statements'!G5 -> 2017
B6: Profitability Ratios
B7: Gross Profit Margin | C7: Gross profit/sales | G7: 0.1926
B8: Net Profit Margin | C8: Net profit after tax/sales
B9: Return on Assets | C9: Net profit after tax/total assets
B11: Efficiency (or Asset Management) Ratios
B12: Inventory Turnover Ratio | C12: Cost of goods sold/ending inventory | G12: 1.892
B13: Days of Inventory | C13: Inventory/av.daily cost of goods sold
B14: Total Asset Turnover Ratio | C14: Sales/total assets
B15: Current Asset Turnover Ratio | C15: Sales/current assets
B16: Average Collection Period (Days Receivable) | C16: Accounts receivable/av.daily credit sales
B18: Liquidity Ratios
B19: Current Ratio | C19: Current assets/current liabilities | J19: Notes Area
B20: Quick Ratio 1 | C20: (Current assets - inventory - prepayments)/current liabilities | G20: 0.009 | J20: This area is designed as a space to write notes to yourself. Hopefully this will save you the hassle of attempting to find the pen and paper that is somewhere in the bottom of your bag.
B21: Quick Ratio 2 | C21: (Current assets - inventory - prepayments - receivables)/current liabilities
B23: Financial Structure Ratios
B24: Debt/Equity Ratio | C24: Debt/equity
B25: Equity Ratio | C25: Equity/total assets
B26: Times Interest Earned | C26: Earnings before interest & tax/interest
B28: Market Ratios
B29: Earnings per Share (EPS) | C29: Net profit after tax/nos of issued ordinary shares
B30: Dividends per Share (DPS) | C30: Dividends/number of issued ordinary shares
B31: Dividend Yield Ratio | C31: Dividends per share/market price per share
B32: Price Earnings Ratio | C32: Market price per share/earnings per share
B33: Net Asset Backing per Share Ratio | C33: Net assets (owners equity)/number of shares issued
B34: Market/Book Ratio | C34: Market price per share/net asset backing per share | G34: 0.052
B36: Ratios Based on Reformulated Financial Statements
B37: Dividend Payout Ratio | C37: Dividends/comprehensive income
B38: Return on Equity (ROE) | C38: Comprehensive Income/shareholders' equity
B39: Return on Net Operating Assets (RNOA) | C39: Operating income after tax (OI)/net operating assets (NOA)
B40: Net Borrowing Cost (NBC) | C40: Net fin. expenses after tax/net financial obligations
B41: Profit Margin (PM) | C41: Operating income after tax (OI)/sales
B42: Operating Liability Leverage (OLLEV) | C42: Av.operating liabilities/av.net operating assets
B43: Financial Leverage (FLEV) | C43: Av.net financial obligations/av.shareholders' equity
B44: Return on Operating Assets (ROOA) | C44: (OI after tax + implicit interest after tax)/av.operating assets
B45: Operating Liability Leverage Spread (OLSPREAD) | C45: ROOA - short-term borrowing rate (after tax)
...

Sheet Working
B1: Working Area | O1: Notes Area
B2: This is a place where you can copy and paste forumlas, play with calculations and generally have fun without messing up your other worksheets. | O2: This area is designed as a space to write notes to yourself. Hopefully this will save you the hassle of attempting to find the pen and paper that is somewhere in the bottom of your bag.

Sheet NPV & IRR
A1: EXAMPLE FOR WESFARMERS
A3: ALL FIGURES ARE EXPRESSED IN MILLIONS AUD
A5: OPTION 1: BUNNINGS ROCKHAMPTON
A7: Time period | B7: 0 | C7: 1 | D7: 2 | E7: 3 | F7: 4 | G7: 5 | H7: 6 | I7: 7 | J7: 8 | K7: 9 | L7: 10
A8: Cashflow | B8: -77 | C8: -4 | D8: 5 | E8: 15 | F8: 20 | G8: 20 | H8: 20 | I8: 25 | J8: 25 | K8: 10 | L8: =11+2 -> 13
A9: NPV | B9: =NPV(0.1,C8:L8)+B8 -> 5.8784404
A11: IRR | B11: =IRR(B8:L8, 0.1) -> 0.11370811
A13: Time period | B13: 0 | C13: 1 | D13: 2 | E13: 3 | F13: 4 | G13: 5 | H13: 6 | I13: 7 | J13: 8 | K13: 9 | L13: 10
A14: Cashflow | B14: -77 | C14: -4 | D14: 5 | E14: 15 | F14: 20 | G14: 20 | H14: 20 | I14: 25 | J14: 25 | K14: 10 | L14: =11+2 -> 13
A15: Cumulative Cashflow | B15: =B14 -> -77 | C15: =B15+C14 -> -81 | D15: =C15+D14 -> -76 | E15: =D15+E14 -> -61 | F15: =E15+F14 -> -41 | G15: =F15+G14 -> -21 | H15: =G15+H14 -> -1 | I15: =H15+I14 -> 24 | J15: =I15+J14 -> 49 | ... L15: =K15+L14 -> 72
A17: Payback Period | B17: 6 years | C17: =-$H$15/$I$14*365 -> 14.6 | D17: days
C18: =-$H$15/$I$14*12 -> 0.48 | D18: months
C19: =-$H$15/$I$14 -> 0.04 | D19: years
A22: OPTION 2: BUNNINGS MACKAY
A24: Time period | B24: 0 | C24: 1 | D24: 2 | E24: 3 | F24: 4 | G24: 5 | H24: 6 | I24: 7 | J24: 8 | K24: 9 | L24: 10
A25: Cashflow | B25: -135 | C25: -5 | D25: -1 | E25: 10 | F25: 15 | G25: 15 | H25: 20 | I25: 20 | J25: 20 | K25: 25 | L25: =15-1.5 -> 13.5
A26: NPV | B26: =NPV(0.1,C25:L25)+B25 -> -66.609668
A28: IRR | B28: =IRR(B25:L25, 0.1) -> -0.0026354084
A30: Time period | B30: 0 | C30: 1 | D30: 2 | E30: 3 | F30: 4 | G30: 5 | H30: 6 | I30: 7 | J30: 8 | K30: 9 | L30: 10
A31: Cashflow | B31: -135 | C31: -5 | D31: -1 | E31: 10 | F31: 15 | G31: 15 | H31: 20 | I31: 20 | J31: 20 | K31: 25 | L31: =15-1.5 -> 13.5
A32: Cumulative Cashflow | B32: =B31 -> -135 | C32: =B32+C31 -> -140 | D32: =C32+D31 -> -141 | E32: =D32+E31 -> -131 | F32: =E32+F31 -> -116 | G32: =F32+G31 -> -101 | H32: =G32+H31 -> -81 | I32: =H32+I31 -> -61 | J32: =I32+J31 -> -41 | ... L32: =K32+L31 -> -2.5
A34: Payback Period | B34: Investment is never paid back within 10 years
